BEGIN:VCALENDAR
VERSION:2.0
PRODID:-//Broadway Arts Festival - ECPv6.15.17//NONSGML v1.0//EN
CALSCALE:GREGORIAN
METHOD:PUBLISH
X-WR-CALNAME:Broadway Arts Festival
X-ORIGINAL-URL:https://broadwayartsfestival.com
X-WR-CALDESC:Events for Broadway Arts Festival
REFRESH-INTERVAL;VALUE=DURATION:PT1H
X-Robots-Tag:noindex
X-PUBLISHED-TTL:PT1H
BEGIN:VTIMEZONE
TZID:Europe/London
BEGIN:DAYLIGHT
TZOFFSETFROM:+0000
TZOFFSETTO:+0100
TZNAME:BST
DTSTART:20240331T010000
END:DAYLIGHT
BEGIN:STANDARD
TZOFFSETFROM:+0100
TZOFFSETTO:+0000
TZNAME:GMT
DTSTART:20241027T010000
END:STANDARD
BEGIN:DAYLIGHT
TZOFFSETFROM:+0000
TZOFFSETTO:+0100
TZNAME:BST
DTSTART:20250330T010000
END:DAYLIGHT
BEGIN:STANDARD
TZOFFSETFROM:+0100
TZOFFSETTO:+0000
TZNAME:GMT
DTSTART:20251026T010000
END:STANDARD
BEGIN:DAYLIGHT
TZOFFSETFROM:+0000
TZOFFSETTO:+0100
TZNAME:BST
DTSTART:20260329T010000
END:DAYLIGHT
BEGIN:STANDARD
TZOFFSETFROM:+0100
TZOFFSETTO:+0000
TZNAME:GMT
DTSTART:20261025T010000
END:STANDARD
END:VTIMEZONE
BEGIN:VEVENT
DTSTART;TZID=Europe/London:20250609T100000
DTEND;TZID=Europe/London:20250609T160000
DTSTAMP:20260422T144631
CREATED:20241127T102707Z
LAST-MODIFIED:20250608T213631Z
UID:10000677-1749463200-1749484800@broadwayartsfestival.com
SUMMARY:Sketchbooks and Sketching at Snowshill Manor NT
DESCRIPTION:Join Shelly Perkins for a relaxed day working in sketchbooks around the beautiful Snowshill Manor Gardens. Participants will learn how to break down plein air scenes into bite sized pieces; from loose drawn observations to longer line and watercolour wash studies using mixed media. Participants will cover botanical subjects as well as scenes with the house\, garden and broader landscapes of the lovely surroundings capturing a visual snapshot of the day through sketchbook observations. Shelly will share her knowledge and skills of choosing subjects and breaking down larger landscape scenes into manageable compositions with fluid line work and the addition of loose colour \nShelly Perkins is a wildlife and landscape artist. Her travels around the world’s seven continents are a constant inspiration for her work. She sells her work as limited edition mixed media prints and has two books about her work and travels as an artist. Shelly was the artist in residence on the Royal Navy’s Ice-Breaking ship travelling to Antarctica. She also leads painting holidays in several worldwide locations as well as travelling to create painting films for the online school ‘nature studio’. \nTickets £100  (13 places) – includes entry to Snowshill Manor National Trust and parking \nMaterials List: \n\ndrawing pencils\na wide range of waterproof drawing pens\nset of watercolour paints\nhard backed watercolour sketchbook (ideally hot pressed paper).\na selection of paint brushes\nwater pots for water\npencil sharpeners\nstool for sitting on if you prefer\, although there are plenty of places to perch around the gardens\n\nFurther details of materials will be sent with your workshop joining instructions. \nShelly Perkins  \n \n  \nSnowshill Manor National Trust – Sketchbook Workshop \n \n  \n \nSnowshill Manor Gardens \n \n 
URL:https://broadwayartsfestival.com/event/sketchbooks-and-sketching-at-snowshill-manor-nt-with-shelley-perkins/
LOCATION:Snowshill Manor & Gardens NT\, Snowshill\, WR12 7JU\, United Kingdom
CATEGORIES:Workshops
ATTACH;FMTTYPE=image/jpeg:https://broadwayartsfestival.com/wp-content/uploads/2024/11/Day-6-Broadway-Arts-Festival-Charlotte-Burn-Photography-67_websize-e1732703879943.jpg
ORGANIZER;CN="Karen Lacey":MAILTO:workshops@broadwayartsfestival.com
GEO:52.0001892;-1.8653132
END:VEVENT
END:VCALENDAR