BEGIN:VCALENDAR
VERSION:2.0
PRODID:-//Broadway Arts Festival - ECPv6.15.17//NONSGML v1.0//EN
CALSCALE:GREGORIAN
METHOD:PUBLISH
X-WR-CALNAME:Broadway Arts Festival
X-ORIGINAL-URL:https://broadwayartsfestival.com
X-WR-CALDESC:Events for Broadway Arts Festival
REFRESH-INTERVAL;VALUE=DURATION:PT1H
X-Robots-Tag:noindex
X-PUBLISHED-TTL:PT1H
BEGIN:VTIMEZONE
TZID:Europe/London
BEGIN:DAYLIGHT
TZOFFSETFROM:+0000
TZOFFSETTO:+0100
TZNAME:BST
DTSTART:20220327T010000
END:DAYLIGHT
BEGIN:STANDARD
TZOFFSETFROM:+0100
TZOFFSETTO:+0000
TZNAME:GMT
DTSTART:20221030T010000
END:STANDARD
BEGIN:DAYLIGHT
TZOFFSETFROM:+0000
TZOFFSETTO:+0100
TZNAME:BST
DTSTART:20230326T010000
END:DAYLIGHT
BEGIN:STANDARD
TZOFFSETFROM:+0100
TZOFFSETTO:+0000
TZNAME:GMT
DTSTART:20231029T010000
END:STANDARD
BEGIN:DAYLIGHT
TZOFFSETFROM:+0000
TZOFFSETTO:+0100
TZNAME:BST
DTSTART:20240331T010000
END:DAYLIGHT
BEGIN:STANDARD
TZOFFSETFROM:+0100
TZOFFSETTO:+0000
TZNAME:GMT
DTSTART:20241027T010000
END:STANDARD
END:VTIMEZONE
BEGIN:VEVENT
DTSTART;TZID=Europe/London:20230617T200000
DTEND;TZID=Europe/London:20230617T220000
DTSTAMP:20260422T114124
CREATED:20230227T122840Z
LAST-MODIFIED:20230227T140717Z
UID:10000569-1687032000-1687039200@broadwayartsfestival.com
SUMMARY:Rat Pack Night with Lance Ellington & Band
DESCRIPTION:Join the legendary vocalist Lance Ellington and his 6-piece band for a journey of nostalgia\, romance and swing through the music of Duke Ellington\, Frank Sinatra\, Nat King Cole\, George Benson\, Tony Bennett\, Michael Bublé and many more. Lance was guest vocalist with the Strictly Come Dancing Band for several years and regularly performs sold out shows at Ronnie Scott’s Jazz Club in London. \nLance has worked with many of the world’s top recording artists\, including Sting\, George Michael\, Robbie Williams\, Tina Turner\, Michael Jackson and many others. He is one of the UK’s busiest session singers\, performing on many great albums. \nThis event will be taking place in the marquee on the village green. \nBar opens at 7:30pm for an 8pm start. \nTickets £25 \nTickets go on sale through the website at 10am on 11th March\, and 1 week earlier (4th March) for Benefactors of the festival who qualify for Priority Booking. \nYou can become a Benefactor for as little as £50 and support our Outreach Projects in doing so\, applications are now open. \nIf you are not a 2023 Benefactor\, please do not purchase a Benefactor ticket as this ticket will be cancelled and an admin fee of £10 charged. \n 
URL:https://broadwayartsfestival.com/event/rat-pack-night-with-lance-ellington-band-3/
LOCATION:Marquee on the village green\, Lower Green\, Broadway\, WR12 7BU
CATEGORIES:Music
ORGANIZER;CN="Sue Voysey":MAILTO:info@broadwayartsfestival.com
GEO:52.0367674;-1.8654437
X-APPLE-STRUCTURED-LOCATION;VALUE=URI;X-ADDRESS=Marquee on the village green Lower Green Broadway WR12 7BU;X-APPLE-RADIUS=500;X-TITLE=Lower Green:geo:-1.8654437,52.0367674
END:VEVENT
END:VCALENDAR