BEGIN:VCALENDAR
VERSION:2.0
PRODID:-//Broadway Arts Festival - ECPv6.15.17//NONSGML v1.0//EN
CALSCALE:GREGORIAN
METHOD:PUBLISH
X-ORIGINAL-URL:https://broadwayartsfestival.com
X-WR-CALDESC:Events for Broadway Arts Festival
REFRESH-INTERVAL;VALUE=DURATION:PT1H
X-Robots-Tag:noindex
X-PUBLISHED-TTL:PT1H
BEGIN:VTIMEZONE
TZID:Europe/London
BEGIN:DAYLIGHT
TZOFFSETFROM:+0000
TZOFFSETTO:+0100
TZNAME:BST
DTSTART:20220327T010000
END:DAYLIGHT
BEGIN:STANDARD
TZOFFSETFROM:+0100
TZOFFSETTO:+0000
TZNAME:GMT
DTSTART:20221030T010000
END:STANDARD
BEGIN:DAYLIGHT
TZOFFSETFROM:+0000
TZOFFSETTO:+0100
TZNAME:BST
DTSTART:20230326T010000
END:DAYLIGHT
BEGIN:STANDARD
TZOFFSETFROM:+0100
TZOFFSETTO:+0000
TZNAME:GMT
DTSTART:20231029T010000
END:STANDARD
BEGIN:DAYLIGHT
TZOFFSETFROM:+0000
TZOFFSETTO:+0100
TZNAME:BST
DTSTART:20240331T010000
END:DAYLIGHT
BEGIN:STANDARD
TZOFFSETFROM:+0100
TZOFFSETTO:+0000
TZNAME:GMT
DTSTART:20241027T010000
END:STANDARD
END:VTIMEZONE
BEGIN:VEVENT
DTSTART;TZID=Europe/London:20230615T100000
DTEND;TZID=Europe/London:20230615T160000
DTSTAMP:20260423T220312
CREATED:20221208T123030Z
LAST-MODIFIED:20230424T090215Z
UID:10000529-1686823200-1686844800@broadwayartsfestival.com
SUMMARY:En Plein Air Painting in the Gardens of Springfield House with Penny German
DESCRIPTION:Join Penny German\, associate member of the RBSA\, for this wonderful opportunity to paint en plein air\, in the beautiful private gardens of Springfield House\, Broadway. The roses and other blooms will be at their fabulous best at this time of year in this stunning location. \nThe workshop will begin with Penny giving a brief talk about outdoor painting\, followed by a demonstration of painting in the garden. Participants will then find their own spot to paint autonomously whilst Penny circulates offering help and advice where required. There will also be an option to paint a still life of the beautiful flowers from the garden. \nPenny exhibits regularly with the Royal Institute of Oil Painters at the Mall Galleries and she is a regular contributor to The Artist Magazine. \nTicket price £90\nLimited to 13 places (Maximum purchase of 2 per person) \nPlease note: Due to the intense interest in this workshop (and to make it fair for all) we are limiting the number of tickets any person can buy to 2. This applies to Benefactors of the festival and members of the general public. If you buy more than 2 they will be refunded and put back up for sale. \nTickets go on sale through the website at 10am on Saturday 11th March\, and 1 week earlier on 4th March for Benefactors of the festival who qualify for Priority Booking. You can become a Benefactor for as little as £50\, applications are now open. \nIf you are not a 2023 Benefactor\, please do not purchase a Benefactor ticket as this ticket will be cancelled and an admin fee of £10 charged. \n  \nMaterials list: \nPochade box and tripod or easel\n2 x board or canvas to paint on – no larger than 25 x 30cm (Penny will be using 18 x 24cm)\nPaints – bring what you have – see Penny’s choice below\nBrushes sizes 0-8\nWhite spirit or other paint thinner/Zest It and pot for it\nKitchen roll/bag for rubbish\nMatchsticks and glue to stick on the back of board to enable safe transit home whilst wet!\nSunhat and lotion\nWater \nLunch- tea and coffee will be available but please bring your own lunch. Or you can pop into the village which is a 5-10mins walk away. \nPaints: Penny shall be using mainly Michael Harding\nWarm white (but any white is fine)\nRaw Umber\nBurnt Umber\nYellow Ochre\nYellow lake\nFrench Ultramarine\nKing’s blue\nAlizarin Crimson\nViolet Grey (optional)\nUnbleached titanium\nPenny may employ some greens for mixing (Italian green/green umber/green gold/viridian) but not essential – you can make a variety of mixes with yellows/blues \nPlease note: an indoor studio facility will be available in case of bad weather but you may also wish to bring appropriate gear in case of rain. \n  \n  \nThe gardens at Springfield House: \n \n  \n \n  \n \n 
URL:https://broadwayartsfestival.com/event/en-plein-air-painting-in-the-gardens-of-springfield-house-with-penny-german/
LOCATION:Springfield House\, Springfield Lane\, Broadway\, WR12 7BT
CATEGORIES:Workshops
ATTACH;FMTTYPE=image/jpeg:https://broadwayartsfestival.com/wp-content/uploads/2022/12/Penny-German-Plein-Air-e1674042677899.jpg
ORGANIZER;CN="Karen Lacey":MAILTO:workshops@broadwayartsfestival.com
GEO:52.0402712;-1.865876
X-APPLE-STRUCTURED-LOCATION;VALUE=URI;X-ADDRESS=Springfield House Springfield Lane Broadway WR12 7BT;X-APPLE-RADIUS=500;X-TITLE=Springfield Lane:geo:-1.865876,52.0402712
END:VEVENT
END:VCALENDAR