BEGIN:VCALENDAR
VERSION:2.0
PRODID:-//Broadway Arts Festival - ECPv6.15.17//NONSGML v1.0//EN
CALSCALE:GREGORIAN
METHOD:PUBLISH
X-WR-CALNAME:Broadway Arts Festival
X-ORIGINAL-URL:https://broadwayartsfestival.com
X-WR-CALDESC:Events for Broadway Arts Festival
REFRESH-INTERVAL;VALUE=DURATION:PT1H
X-Robots-Tag:noindex
X-PUBLISHED-TTL:PT1H
BEGIN:VTIMEZONE
TZID:Europe/London
BEGIN:DAYLIGHT
TZOFFSETFROM:+0000
TZOFFSETTO:+0100
TZNAME:BST
DTSTART:20240331T010000
END:DAYLIGHT
BEGIN:STANDARD
TZOFFSETFROM:+0100
TZOFFSETTO:+0000
TZNAME:GMT
DTSTART:20241027T010000
END:STANDARD
BEGIN:DAYLIGHT
TZOFFSETFROM:+0000
TZOFFSETTO:+0100
TZNAME:BST
DTSTART:20250330T010000
END:DAYLIGHT
BEGIN:STANDARD
TZOFFSETFROM:+0100
TZOFFSETTO:+0000
TZNAME:GMT
DTSTART:20251026T010000
END:STANDARD
BEGIN:DAYLIGHT
TZOFFSETFROM:+0000
TZOFFSETTO:+0100
TZNAME:BST
DTSTART:20260329T010000
END:DAYLIGHT
BEGIN:STANDARD
TZOFFSETFROM:+0100
TZOFFSETTO:+0000
TZNAME:GMT
DTSTART:20261025T010000
END:STANDARD
END:VTIMEZONE
BEGIN:VEVENT
DTSTART;TZID=Europe/London:20250615T193000
DTEND;TZID=Europe/London:20250615T213000
DTSTAMP:20260420T111632
CREATED:20241028T182237Z
LAST-MODIFIED:20250514T130006Z
UID:10000628-1750015800-1750023000@broadwayartsfestival.com
SUMMARY:Jazz Supper Club with The Ben Holder Hot Club Quartet
DESCRIPTION:Join us on the last night of the festival for a Jazz supper club in the marquee on the village green! \nExpect stylish jazz\, street food vendors\, communal dining in the marquee\, a dance floor\, a double decker bus bar and an opportunity to kick back\, socialise\, and meet new people.\nThis is a relaxed event where you will be encouraged to move about and mingle\, chat\, enjoy a range of great street food and some fabulous  jazz. Help us celebrate the end of the festival!\nThe Ben Holder Hot Club Quartet is a stellar lineup of incredible musicians\, blending an energetic mix of Gypsy Jazz and traditional Swing harking back to the 1920s & 30s. Led by the fiery enthusiasm of Ben Holder\, who wows on violin\, the quartet is strengthened by three phenomenal musicians on guitars and double bass. Expect jazz violin as you’ve never seen it before! \nWith an innate sense of swing\, breath-taking technical ability and true showmanship on stage\, Ben offers flawless musicianship\, heaps of energy and personality and a visible passion for his craft. You can expect to leave an evening of Ben’s company filled with infectious happiness\, asking yourself “Where does he get his energy?!” \n“Get your feet tapping and your jaw dropping at the speed of his fingers. Top quality musicianship and utter entertainment.” – Little Live Music Company \n“That man Holder…if he was playing electric guitar behind a screen you’d swear it was Jimi Hendrix come back to life. So fast. So melodic.” – Jonathan Craymer\, Grapevine Live \nBar and street food providers open at 7:00pm for a 7:30pm start. \nThere will be a full service bar\, a fabulous converted double decker bus\, parked outside the marquee. So please note there will no longer be a BYOB option for drinks on the night. Food must be purchased from the street food vendors\, no picnics. \nStreet Food vendors: \n\nTwo Good Thai\nAsha’s Indian Street Food\nOpenside Pizza\nGorsehill Abbey Ice cream\nRosco’s Coffee Company\n\n\n\nTickets £22  (seating will be provided at long communal tables inside the marquee) \nTicket price includes access to the marquee\, a seat at the communal tables and music (street food and drinks to be purchased on the night). \nTickets go on sale through the website at 10am on 17th March. \nThis event is kindly sponsored by Richmond Villages – Wood Norton \n\n\n \n\n\n\n\n\n\n 
URL:https://broadwayartsfestival.com/event/jazz-supper-club-with-the-ben-holder-hot-club-quartet/
LOCATION:Marquee on the village green\, Lower Green\, Broadway\, WR12 7BU
CATEGORIES:Music,Supper Club
ATTACH;FMTTYPE=image/jpeg:https://broadwayartsfestival.com/wp-content/uploads/2024/10/433876407_10163462322093056_4281014039530912491_n.jpg
GEO:52.0367674;-1.8654437
X-APPLE-STRUCTURED-LOCATION;VALUE=URI;X-ADDRESS=Marquee on the village green Lower Green Broadway WR12 7BU;X-APPLE-RADIUS=500;X-TITLE=Lower Green:geo:-1.8654437,52.0367674
END:VEVENT
BEGIN:VEVENT
DTSTART;TZID=Europe/London:20250614T200000
DTEND;TZID=Europe/London:20250614T220000
DTSTAMP:20260420T111632
CREATED:20241111T155131Z
LAST-MODIFIED:20250613T202811Z
UID:10000642-1749931200-1749938400@broadwayartsfestival.com
SUMMARY:The Frank & Ella Show with Lance Ellington & Alison Jiear
DESCRIPTION:Back by popular demand after his appearance at the festival in 2023\, Lance Ellington returns to present The Frank & Ella Show – a celebration of the most famous of all jazz artists\, Frank Sinatra and Ella Fitzgerald. \nDirect from sell out shows at Ronnie Scott’s Jazz Club in London\, Strictly Come Dancing’s Lance Ellington is joined by Olivier Award nominated vocalist Alison Jiear and together they tip their hats to songs such as A Tisket a Tasket\, I’ve Got You Under My Skin\, Black Magic and Fly Me To The Moon to name a few. \nWhat makes this show unique is that Lance and Alison honour Ol’ Blue Eyes and The First Lady of Song without impersonating them\, bringing an effortless elegance\, humour and great respect for the original artists to the stage. Featuring a swingin’ four piece band\, every song will induce a nostalgic sigh. \nThis event will be taking place in the big marquee on Broadway village green\, and we have a dance floor this year! \nBar opens at 7:30pm for an 8pm start. There will be a full service bar\, a fabulous converted double decker bus\, parked outside the marquee. So please note there will no longer be a BYOB option for drinks on the night. \nTickets: \n£30 for a standard seat (no table – theatre style seating) \n£210 for a table of 6 (sited at the back of the marquee) \nTickets go on sale through the website at 10am on 17th March. \nThis event is kindly sponsored by Richmond Villages – Wood Norton \n 
URL:https://broadwayartsfestival.com/event/the-frank-ella-show-with-lance-ellington-alison-jiear/
LOCATION:Marquee on the village green\, Lower Green\, Broadway\, WR12 7BU
CATEGORIES:Music
ATTACH;FMTTYPE=image/jpeg:https://broadwayartsfestival.com/wp-content/uploads/2024/11/Frank-and-Ella-2.jpg
GEO:52.0367674;-1.8654437
X-APPLE-STRUCTURED-LOCATION;VALUE=URI;X-ADDRESS=Marquee on the village green Lower Green Broadway WR12 7BU;X-APPLE-RADIUS=500;X-TITLE=Lower Green:geo:-1.8654437,52.0367674
END:VEVENT
END:VCALENDAR