BEGIN:VCALENDAR
VERSION:2.0
PRODID:-//Broadway Arts Festival - ECPv6.15.17//NONSGML v1.0//EN
CALSCALE:GREGORIAN
METHOD:PUBLISH
X-ORIGINAL-URL:https://broadwayartsfestival.com
X-WR-CALDESC:Events for Broadway Arts Festival
REFRESH-INTERVAL;VALUE=DURATION:PT1H
X-Robots-Tag:noindex
X-PUBLISHED-TTL:PT1H
BEGIN:VTIMEZONE
TZID:Europe/London
BEGIN:DAYLIGHT
TZOFFSETFROM:+0000
TZOFFSETTO:+0100
TZNAME:BST
DTSTART:20250330T010000
END:DAYLIGHT
BEGIN:STANDARD
TZOFFSETFROM:+0100
TZOFFSETTO:+0000
TZNAME:GMT
DTSTART:20251026T010000
END:STANDARD
BEGIN:DAYLIGHT
TZOFFSETFROM:+0000
TZOFFSETTO:+0100
TZNAME:BST
DTSTART:20260329T010000
END:DAYLIGHT
BEGIN:STANDARD
TZOFFSETFROM:+0100
TZOFFSETTO:+0000
TZNAME:GMT
DTSTART:20261025T010000
END:STANDARD
BEGIN:DAYLIGHT
TZOFFSETFROM:+0000
TZOFFSETTO:+0100
TZNAME:BST
DTSTART:20270328T010000
END:DAYLIGHT
BEGIN:STANDARD
TZOFFSETFROM:+0100
TZOFFSETTO:+0000
TZNAME:GMT
DTSTART:20271031T010000
END:STANDARD
END:VTIMEZONE
BEGIN:VEVENT
DTSTART;TZID=Europe/London:20260530T160000
DTEND;TZID=Europe/London:20260530T180000
DTSTAMP:20260421T030638
CREATED:20251016T093809Z
LAST-MODIFIED:20251016T093809Z
UID:10000739-1780156800-1780164000@broadwayartsfestival.com
SUMMARY:Broadway Arts Colony Guided Walk
DESCRIPTION:In the late 19th century Broadway turned from a sleepy backwater into a hub of creativity thanks to an influx of mainly American artists\, writers and actors. \nLearn all about this world-famously influential colony on an informative\, illustrated walk around beautiful Broadway with local art historian\, Karen Bloch\, and how one of the world’s most famous artworks was painted here in Broadway. \nThe walk will last approximately 2 hrs on relatively flat paved ground\, so would also be suitable for motorised wheelchair users. We will go ahead even if it is raining\, so please dress for all weathers and wear comfortable shoes. \nThe walk will start at the war memorial in the centre of the village by the village green. Your guide will be local resident\, Karen Bloch. \nTickets £20  (Limited to 20 places) \nTickets go on sale through the website at 10am on 26th January. \nYour guide\, Karen Bloch.
URL:https://broadwayartsfestival.com/event/broadway-arts-colony-guided-walk-6/
LOCATION:Around the village\, 1 The Green\, Broadway\, WR12 7AE\, United Kingdom
CATEGORIES:Guided Walks,In conversation,Talks & Conversations
ATTACH;FMTTYPE=image/jpeg:https://broadwayartsfestival.com/wp-content/uploads/2022/11/Broadway-Arts-Colony-Heritage-Walks.jpg
GEO:52.0349191;-1.8635288
X-APPLE-STRUCTURED-LOCATION;VALUE=URI;X-ADDRESS=Around the village 1 The Green Broadway WR12 7AE United Kingdom;X-APPLE-RADIUS=500;X-TITLE=1 The Green:geo:-1.8635288,52.0349191
END:VEVENT
BEGIN:VEVENT
DTSTART;TZID=Europe/London:20260531T110000
DTEND;TZID=Europe/London:20260531T130000
DTSTAMP:20260421T030638
CREATED:20251016T094257Z
LAST-MODIFIED:20251016T094257Z
UID:10000740-1780225200-1780232400@broadwayartsfestival.com
SUMMARY:Broadway Arts Colony Guided Walk
DESCRIPTION:In the late 19th century Broadway turned from a sleepy backwater into a hub of creativity thanks to an influx of mainly American artists\, writers and actors. \nLearn all about this world-famously influential colony on an informative\, illustrated walk around beautiful Broadway with local art historian\, Karen Bloch\, and how one of the world’s most famous artworks was painted here in Broadway. \nThe walk will last approximately 2 hrs on relatively flat paved ground\, so would also be suitable for motorised wheelchair users. We will go ahead even if it is raining\, so please dress for all weathers and wear comfortable shoes. \nThe walk will start at the war memorial in the centre of the village by the village green. Your guide will be local resident\, Karen Bloch. \nTickets £20  (Limited to 20 places) \nTickets go on sale through the website at 10am on 26th January. \nYour guide\, Karen Bloch.
URL:https://broadwayartsfestival.com/event/broadway-arts-colony-guided-walk-7/
LOCATION:Around the village\, 1 The Green\, Broadway\, WR12 7AE\, United Kingdom
CATEGORIES:Guided Walks,In conversation,Talks & Conversations
ATTACH;FMTTYPE=image/jpeg:https://broadwayartsfestival.com/wp-content/uploads/2022/11/Broadway-Arts-Colony-Heritage-Walks.jpg
GEO:52.0349191;-1.8635288
X-APPLE-STRUCTURED-LOCATION;VALUE=URI;X-ADDRESS=Around the village 1 The Green Broadway WR12 7AE United Kingdom;X-APPLE-RADIUS=500;X-TITLE=1 The Green:geo:-1.8635288,52.0349191
END:VEVENT
END:VCALENDAR