BEGIN:VCALENDAR
VERSION:2.0
PRODID:-//Broadway Arts Festival - ECPv6.15.17//NONSGML v1.0//EN
CALSCALE:GREGORIAN
METHOD:PUBLISH
X-ORIGINAL-URL:https://broadwayartsfestival.com
X-WR-CALDESC:Events for Broadway Arts Festival
REFRESH-INTERVAL;VALUE=DURATION:PT1H
X-Robots-Tag:noindex
X-PUBLISHED-TTL:PT1H
BEGIN:VTIMEZONE
TZID:Europe/London
BEGIN:DAYLIGHT
TZOFFSETFROM:+0000
TZOFFSETTO:+0100
TZNAME:BST
DTSTART:20240331T010000
END:DAYLIGHT
BEGIN:STANDARD
TZOFFSETFROM:+0100
TZOFFSETTO:+0000
TZNAME:GMT
DTSTART:20241027T010000
END:STANDARD
BEGIN:DAYLIGHT
TZOFFSETFROM:+0000
TZOFFSETTO:+0100
TZNAME:BST
DTSTART:20250330T010000
END:DAYLIGHT
BEGIN:STANDARD
TZOFFSETFROM:+0100
TZOFFSETTO:+0000
TZNAME:GMT
DTSTART:20251026T010000
END:STANDARD
BEGIN:DAYLIGHT
TZOFFSETFROM:+0000
TZOFFSETTO:+0100
TZNAME:BST
DTSTART:20260329T010000
END:DAYLIGHT
BEGIN:STANDARD
TZOFFSETFROM:+0100
TZOFFSETTO:+0000
TZNAME:GMT
DTSTART:20261025T010000
END:STANDARD
END:VTIMEZONE
BEGIN:VEVENT
DTSTART;TZID=Europe/London:20250607T100000
DTEND;TZID=Europe/London:20250616T170000
DTSTAMP:20260419T160459
CREATED:20250110T160325Z
LAST-MODIFIED:20250406T101423Z
UID:10000714-1749290400-1750093200@broadwayartsfestival.com
SUMMARY:The Pearson Silver Collection at Court Barn Museum Chipping Campden
DESCRIPTION:The Pearson Silver Collection\, the largest collection of post-World War II British designer silver in private hands\, is regarded as being of national importance. It encompasses vintage silver from 1945 together with contemporary pieces and represents the story of modern British Silversmithing. \nA selection of pieces from the collection will form an exhibition at Court Barn Museum in Chipping Campden during the festival. \nYou can also enjoy the fascinating permanent display at Court Barn which tells the story of CR Ashbee and the Arts & Crafts Movement in Chipping Campden. The Arts and Crafts movement stimulated a wealth of individual creativity in the North Cotswolds in silversmithing\, stained glass work\, book binding\, furniture making\, printing and many other crafts which continues today. \nEntry tickets are to be purchased directly from Court Barn Museum which is open from 10am-5pm (closed on Mondays).  Adults £7 and students and those under 25 are free. \nSilver Day \nWe are having a special ‘Silver Day’ at the festival on Saturday 14th June\, to include two talks on the subject of silver design at Cidermill Theatre\, a short 5 minute walk from the museum: \n\n‘A Sterling Renaissance – British Silver Design from the 1950s to date’ by John Andrew Curator/Owner of the Pearson Collection. 11am-12:30pm\n‘Robert Welch – Crafting a Design Legacy’ by Charlotte Booth of Robert Welch. 3-4pm\n\nThe ticket price for each of the above talks includes entry to this exhibition at Court Barn Museum. \nWhy not make a day of it? \nThis exhibition and Silver Day is kindly sponsored by The Goldsmiths’ Company \nCourt Barn Museum\, Chipping Campden
URL:https://broadwayartsfestival.com/event/the-pearson-silver-collection-at-court-barn-museum-chipping-campden/
LOCATION:Court Barn Museum Chipping Campden\, Church Street\, Chipping Campden\, GL55 6JE\, United Kingdom
CATEGORIES:Exhibitions
ATTACH;FMTTYPE=image/jpeg:https://broadwayartsfestival.com/wp-content/uploads/2025/01/Guild-of-Handicraft-Tea-Service-1-.jpg
GEO:52.0526023;-1.7764494
X-APPLE-STRUCTURED-LOCATION;VALUE=URI;X-ADDRESS=Court Barn Museum Chipping Campden Church Street Chipping Campden GL55 6JE United Kingdom;X-APPLE-RADIUS=500;X-TITLE=Church Street:geo:-1.7764494,52.0526023
END:VEVENT
END:VCALENDAR