BEGIN:VCALENDAR
VERSION:2.0
PRODID:-//Broadway Arts Festival - ECPv6.15.17//NONSGML v1.0//EN
CALSCALE:GREGORIAN
METHOD:PUBLISH
X-WR-CALNAME:Broadway Arts Festival
X-ORIGINAL-URL:https://broadwayartsfestival.com
X-WR-CALDESC:Events for Broadway Arts Festival
REFRESH-INTERVAL;VALUE=DURATION:PT1H
X-Robots-Tag:noindex
X-PUBLISHED-TTL:PT1H
BEGIN:VTIMEZONE
TZID:Europe/London
BEGIN:DAYLIGHT
TZOFFSETFROM:+0000
TZOFFSETTO:+0100
TZNAME:BST
DTSTART:20240331T010000
END:DAYLIGHT
BEGIN:STANDARD
TZOFFSETFROM:+0100
TZOFFSETTO:+0000
TZNAME:GMT
DTSTART:20241027T010000
END:STANDARD
BEGIN:DAYLIGHT
TZOFFSETFROM:+0000
TZOFFSETTO:+0100
TZNAME:BST
DTSTART:20250330T010000
END:DAYLIGHT
BEGIN:STANDARD
TZOFFSETFROM:+0100
TZOFFSETTO:+0000
TZNAME:GMT
DTSTART:20251026T010000
END:STANDARD
BEGIN:DAYLIGHT
TZOFFSETFROM:+0000
TZOFFSETTO:+0100
TZNAME:BST
DTSTART:20260329T010000
END:DAYLIGHT
BEGIN:STANDARD
TZOFFSETFROM:+0100
TZOFFSETTO:+0000
TZNAME:GMT
DTSTART:20261025T010000
END:STANDARD
END:VTIMEZONE
BEGIN:VEVENT
DTSTART;TZID=Europe/London:20250609T140000
DTEND;TZID=Europe/London:20250609T150000
DTSTAMP:20260419T191910
CREATED:20241030T130115Z
LAST-MODIFIED:20250316T124126Z
UID:10000631-1749477600-1749481200@broadwayartsfestival.com
SUMMARY:Favola Flute & Harp Duo: From Fauré to Piazzolla
DESCRIPTION:Favola take you on a musical journey in the beautiful atmospheric setting of Grade I-listed St Eadburgha’s Church on the outskirts of Broadway. \nProgramme: \n\nDance of the Blessed Spirits – Gluck\nHypnosis – Ian Clarke\nPassaggio – Louis Anthony deLise\nSicilenne – Fauré\nHistoire du Tango – Piazzolla\nSonata for flute and harp – Nino Rota\n\nHarpist Madeline Kirby and flautist Judith Scholes who make up Favola met in 2019 when they were representing the UK in the Serbian Music Edict Festival. United by a love of discovering music for flute and harp\, they soon formed as a duo and have been performing together since. \nJudith is a flute player and teacher\, and regularly performs with the National Flute Orchestra and the Central England Ensemble. Harpist Madeline Kirby’s career has seen her performing with many ensembles in the UK and abroad including The International Film Orchestra and Roma Concerts Opera. \nTickets £20 \nTickets go on sale through the website at 10am on 17th March. \nFree parking will be available in the field opposite the church. Please note: there is no loo at St Eadburgha’s. \nVenue for the concert: St Eadburgha’s Broadway \n \n  \n \n  \n 
URL:https://broadwayartsfestival.com/event/favola-flute-harp-duo-from-faure-to-piazzolla/
LOCATION:St. Eadburgha’s Church\, Snowshill Road\, Broadway\, WR12 7JS
CATEGORIES:Music
ATTACH;FMTTYPE=image/jpeg:https://broadwayartsfestival.com/wp-content/uploads/2024/10/Favola--scaled.jpg
GEO:52.0236806;-1.8591162
X-APPLE-STRUCTURED-LOCATION;VALUE=URI;X-ADDRESS=St. Eadburgha’s Church Snowshill Road Broadway WR12 7JS;X-APPLE-RADIUS=500;X-TITLE=Snowshill Road:geo:-1.8591162,52.0236806
END:VEVENT
END:VCALENDAR