BEGIN:VCALENDAR
VERSION:2.0
PRODID:-//Broadway Arts Festival - ECPv6.15.17//NONSGML v1.0//EN
CALSCALE:GREGORIAN
METHOD:PUBLISH
X-WR-CALNAME:Broadway Arts Festival
X-ORIGINAL-URL:https://broadwayartsfestival.com
X-WR-CALDESC:Events for Broadway Arts Festival
REFRESH-INTERVAL;VALUE=DURATION:PT1H
X-Robots-Tag:noindex
X-PUBLISHED-TTL:PT1H
BEGIN:VTIMEZONE
TZID:Europe/London
BEGIN:DAYLIGHT
TZOFFSETFROM:+0000
TZOFFSETTO:+0100
TZNAME:BST
DTSTART:20240331T010000
END:DAYLIGHT
BEGIN:STANDARD
TZOFFSETFROM:+0100
TZOFFSETTO:+0000
TZNAME:GMT
DTSTART:20241027T010000
END:STANDARD
BEGIN:DAYLIGHT
TZOFFSETFROM:+0000
TZOFFSETTO:+0100
TZNAME:BST
DTSTART:20250330T010000
END:DAYLIGHT
BEGIN:STANDARD
TZOFFSETFROM:+0100
TZOFFSETTO:+0000
TZNAME:GMT
DTSTART:20251026T010000
END:STANDARD
BEGIN:DAYLIGHT
TZOFFSETFROM:+0000
TZOFFSETTO:+0100
TZNAME:BST
DTSTART:20260329T010000
END:DAYLIGHT
BEGIN:STANDARD
TZOFFSETFROM:+0100
TZOFFSETTO:+0000
TZNAME:GMT
DTSTART:20261025T010000
END:STANDARD
END:VTIMEZONE
BEGIN:VEVENT
DTSTART;TZID=Europe/London:20250614T180000
DTEND;TZID=Europe/London:20250614T193000
DTSTAMP:20260420T125751
CREATED:20241028T125109Z
LAST-MODIFIED:20250514T133335Z
UID:10000627-1749924000-1749929400@broadwayartsfestival.com
SUMMARY:How not to be a Starving Artist with Claire Henley
DESCRIPTION:An informal talk about surviving as a professional artist. Freelance for 36 years\, Claire Henley has illustrated such diverse things as margarine tubs and children’s books before becoming a fine artist 15 years ago.  \nTopics will include finding your tribe\, being organised\, showing and selling your work\, galleries\, social media\, multiple income streams\, licensing\, talks and demonstrations and\, finally\, your questions. \nAlthough the emphasis will be on making money from your art\, hobby artists should learn a lot too. Since there’s no magic formula\, Claire will simply be talking about things that have worked for her\, things that didn’t really come off\, and things that were a total disaster!  \nThere will be a Q&A session at the end of the talk. Ticket-holders will be able to submit their questions in advance via email. \nThere will be a pop up shop of Claire’s work\, cards\, etc to enjoy at the end of the event. \nTickets  £18  
URL:https://broadwayartsfestival.com/event/how-not-to-be-a-starving-artist/
LOCATION:Lifford Hall\, Lower Green\, Broadway\, WR12 7BU\, United Kingdom
CATEGORIES:Meet the artist,Talks & Conversations
ATTACH;FMTTYPE=image/png:https://broadwayartsfestival.com/wp-content/uploads/2024/10/Screenshot-2024-10-28-at-12.24.51.png
GEO:52.0368534;-1.8658503
X-APPLE-STRUCTURED-LOCATION;VALUE=URI;X-ADDRESS=Lifford Hall Lower Green Broadway WR12 7BU United Kingdom;X-APPLE-RADIUS=500;X-TITLE=Lower Green:geo:-1.8658503,52.0368534
END:VEVENT
END:VCALENDAR