BEGIN:VCALENDAR
VERSION:2.0
PRODID:-//Broadway Arts Festival - ECPv6.15.17//NONSGML v1.0//EN
CALSCALE:GREGORIAN
METHOD:PUBLISH
X-WR-CALNAME:Broadway Arts Festival
X-ORIGINAL-URL:https://broadwayartsfestival.com
X-WR-CALDESC:Events for Broadway Arts Festival
REFRESH-INTERVAL;VALUE=DURATION:PT1H
X-Robots-Tag:noindex
X-PUBLISHED-TTL:PT1H
BEGIN:VTIMEZONE
TZID:Europe/London
BEGIN:DAYLIGHT
TZOFFSETFROM:+0000
TZOFFSETTO:+0100
TZNAME:BST
DTSTART:20230326T010000
END:DAYLIGHT
BEGIN:STANDARD
TZOFFSETFROM:+0100
TZOFFSETTO:+0000
TZNAME:GMT
DTSTART:20231029T010000
END:STANDARD
BEGIN:DAYLIGHT
TZOFFSETFROM:+0000
TZOFFSETTO:+0100
TZNAME:BST
DTSTART:20240331T010000
END:DAYLIGHT
BEGIN:STANDARD
TZOFFSETFROM:+0100
TZOFFSETTO:+0000
TZNAME:GMT
DTSTART:20241027T010000
END:STANDARD
BEGIN:DAYLIGHT
TZOFFSETFROM:+0000
TZOFFSETTO:+0100
TZNAME:BST
DTSTART:20250330T010000
END:DAYLIGHT
BEGIN:STANDARD
TZOFFSETFROM:+0100
TZOFFSETTO:+0000
TZNAME:GMT
DTSTART:20251026T010000
END:STANDARD
END:VTIMEZONE
BEGIN:VEVENT
DTSTART;TZID=Europe/London:20241013T150000
DTEND;TZID=Europe/London:20241013T170000
DTSTAMP:20260422T114432
CREATED:20231018T103813Z
LAST-MODIFIED:20240618T143302Z
UID:10000595-1728831600-1728838800@broadwayartsfestival.com
SUMMARY:'An English Journey' with The Birmingham Philharmonic Orchestra
DESCRIPTION:The Birmingham Philharmonic will be presenting a bespoke programme of English composers for the Broadway Arts Festival at the new Cidermill Theatre in Chipping Campden on the afternoon of Sunday 13th October 2024. \nThe Orchestra’s patron is the celebrated cellist Julian Lloyd Webber\, who will be providing an introduction to the works to be performed to provide context\, taking you on a journey that celebrates some of the very best English composers. \nThe programme will feature Elgar’s Cello Concerto and will take us on a journey of English music from Worcestershire and the West Country\, finishing with Elgar’s Cockaigne Overture (In London Town). \nA programme of exciting and moving music that is not only appealing to those new to classical music\, but also seasoned classical music-lovers in a superb new arts venue with wonderful acoustics in the heart of beautiful Chipping Campden. \nThis is a not to be missed celebration of English classical music. \nProgramme: \nHolst A Somerset Rhapsody \nElgar Cello Concerto \nCoates London Again Suite \nWalton Spitfire Prelude and Fugue \nCoates Calling All Workers \nElgar Overture: Cockaigne (In London Town) \n  \nGuest Cellist for Elgar’s Cello Concerto: Ella Harrison\nOne of our key charitable aims is to encourage and inspire the next generation of artists. We are therefore delighted to be able to showcase the talent of Ella Harrison. Ella is currently at the Purcell School of Music\, assisted by the government scholarship scheme\, where Julian Lloyd Webber is a Patron. She is a member of the National Youth Orchestra of Great Britain and has played in venues including the Wigmore hall and has participated in Birmingham concert series at the Elgar concert hall. In May 2023 Ella was awarded the cello prize at the Junior Royal Academy of Music.\n\nTickets £22\n\nThis event is kindly sponsored by Richmond Villages\n \nGuest Cellist Ella Harrison\n \n  \n \n\n \n  \n 
URL:https://broadwayartsfestival.com/event/an-english-journey-with-the-birmingham-philharmonic/
LOCATION:Cidermill Theatre\, Cidermill Lane\, Chipping Campden\, Gloucestershire\, GL55 6HX
CATEGORIES:Music
ATTACH;FMTTYPE=image/png:https://broadwayartsfestival.com/wp-content/uploads/2023/10/Screenshot-2023-10-18-at-10.51.14.png
GEO:52.0537812;-1.7773787
X-APPLE-STRUCTURED-LOCATION;VALUE=URI;X-ADDRESS=Cidermill Theatre Cidermill Lane Chipping Campden Gloucestershire GL55 6HX;X-APPLE-RADIUS=500;X-TITLE=Cidermill Lane:geo:-1.7773787,52.0537812
END:VEVENT
END:VCALENDAR