BEGIN:VCALENDAR
VERSION:2.0
PRODID:-//Broadway Arts Festival - ECPv6.15.17//NONSGML v1.0//EN
CALSCALE:GREGORIAN
METHOD:PUBLISH
X-WR-CALNAME:Broadway Arts Festival
X-ORIGINAL-URL:https://broadwayartsfestival.com
X-WR-CALDESC:Events for Broadway Arts Festival
REFRESH-INTERVAL;VALUE=DURATION:PT1H
X-Robots-Tag:noindex
X-PUBLISHED-TTL:PT1H
BEGIN:VTIMEZONE
TZID:Europe/London
BEGIN:DAYLIGHT
TZOFFSETFROM:+0000
TZOFFSETTO:+0100
TZNAME:BST
DTSTART:20240331T010000
END:DAYLIGHT
BEGIN:STANDARD
TZOFFSETFROM:+0100
TZOFFSETTO:+0000
TZNAME:GMT
DTSTART:20241027T010000
END:STANDARD
BEGIN:DAYLIGHT
TZOFFSETFROM:+0000
TZOFFSETTO:+0100
TZNAME:BST
DTSTART:20250330T010000
END:DAYLIGHT
BEGIN:STANDARD
TZOFFSETFROM:+0100
TZOFFSETTO:+0000
TZNAME:GMT
DTSTART:20251026T010000
END:STANDARD
BEGIN:DAYLIGHT
TZOFFSETFROM:+0000
TZOFFSETTO:+0100
TZNAME:BST
DTSTART:20260329T010000
END:DAYLIGHT
BEGIN:STANDARD
TZOFFSETFROM:+0100
TZOFFSETTO:+0000
TZNAME:GMT
DTSTART:20261025T010000
END:STANDARD
END:VTIMEZONE
BEGIN:VEVENT
DTSTART;TZID=Europe/London:20250615T103000
DTEND;TZID=Europe/London:20250615T163000
DTSTAMP:20260421T163250
CREATED:20241123T121401Z
LAST-MODIFIED:20250512T170306Z
UID:10000670-1749983400-1750005000@broadwayartsfestival.com
SUMMARY:Woodland Paper Collage Workshop with Susan Watt
DESCRIPTION:Susan Watt is an artist who ‘paints with paper’\, and was a finalist in our annual art competition in 2024. \nIn this fun workshop you will be guided through the process of creating a unique woodland scene using only recycled magazines and PVA! You will learn about composition\, colour and how to create depth and texture in your work. \nA great workshop to teach you the skills to continue your collage journey after the event in this wonderfully low cost and environmentally friendly recycled medium. \nSuitable for complete beginners or artists wishing to experiment with this forgiving medium. \n\n\n\nAll materials will be provided. You will complete your work and have the option to purchase a double mount at a discounted price of £15. \n\n\n\n\n\n\nIf you’d like to see examples of the work created by previous workshop participants\, have a scroll through Susan’s Instagram page @susanwattcollage. \n\n\n\n\n\n\nThis workshop was one of our most popular at the last festival! \nTickets £70 (12 Places) \n  \n \n\nArtist Susan Watt
URL:https://broadwayartsfestival.com/event/woodland-paper-collage-workshop-with-susan-watt/
LOCATION:Lifford Hall\, Lower Green\, Broadway\, WR12 7BU\, United Kingdom
CATEGORIES:Craft Workshops,Tickets still available,Workshops
ATTACH;FMTTYPE=image/jpeg:https://broadwayartsfestival.com/wp-content/uploads/2024/11/Susan-Watt-Woodland-2-e1732364151394.jpg
GEO:52.0368534;-1.8658503
X-APPLE-STRUCTURED-LOCATION;VALUE=URI;X-ADDRESS=Lifford Hall Lower Green Broadway WR12 7BU United Kingdom;X-APPLE-RADIUS=500;X-TITLE=Lower Green:geo:-1.8658503,52.0368534
END:VEVENT
BEGIN:VEVENT
DTSTART;TZID=Europe/London:20250615T080000
DTEND;TZID=Europe/London:20250615T180000
DTSTAMP:20260421T163250
CREATED:20241202T131450Z
LAST-MODIFIED:20250512T170136Z
UID:10000692-1749974400-1750010400@broadwayartsfestival.com
SUMMARY:Street Photography Workshop with Peter Martin
DESCRIPTION:Spend the day with professional photographer\, Peter Martin\, capturing village life and The Great Broadway Paint-Off that will be taking place in the village that day. \nEveryone has a story to tell. Some do it with words\, or music\, or art\, but this workshop is for someone who wants to tell a story with their camera. \nThe day starts with an early morning session where Peter will cover all the important elements of reportage Street Photography and how to capture the shots needed to document life… with the aim of creating a photo essay comprising of a minimum of 5 photographs. The photo essay can illustrate either the event as a whole\, or the story of one of the artists from beginning to end of the day. \nThe group will then be released into the village to spend a couple of hours capturing scenes in the village individually. \nThe group then reconvenes at 12:30 to have lunch\, share shots captured so far and obtain advice from Peter. \nAfter the lunchtime session the photographers will once again venture out into the village capturing the rest of the day and the culmination of the Paint-Off with the exhibition and announcement of prizewinners in the marquee from 4-5pm. \nThe day will conclude with a wrap up session at 5pm. The group will then have the opportunity to share their resulting work online after the editing step is complete. \nParticipants will have the chance to connect with Peter via email and phone in advance of the workshop in order to help them prepare and get the most out of the day\, discussing approaches and possibilities. \nThis workshop is open to anyone age 16 and over\, and especially useful for those working towards their Photography A level. \nWorkshop participants can spend as little or as much time as they like capturing scenes during the day. \nAbout Tutor Peter Martin: \nCanadian born Peter Martin became a professional at 16 when a photo was published on the front page of a Toronto daily newspaper. Over the last 40 years Martin has worked in over 30 countries accumulating well over 10\,000 credited assignments as both freelance and staff photographer for various newspapers\, news outlets and publications including the Montreal Gazette and the Washington Post.\nHis varied and diverse portfolio of work includes major sporting and entertainment events\, international fashion shoots\, Popes\, Presidents\, Royalty and the fall of the Berlin Wall. His work has been displayed in several solo and group exhibits and in 2008 his photograph of Terry Fox was voted #4 of the Top Ten Historical Photos That Changed Canada. In 2015 he opened his own gallery (Peter Martin Gallery) in Stow-On-The-Wold\, in the Cotswolds. \nWhat to bring: \n\nAny type of digital camera. Preferably a camera with interchangeable lenses\, but phone cameras are acceptable but not as flexible.\nLaptop and any applicable cords to connect cameras to a laptop as required\n\nTickets: (10 Places) £75  (£50 for under 18’s) \nTutor Peter Martin:
URL:https://broadwayartsfestival.com/event/street-photography-workshop-with-peter-martin/
LOCATION:Lifford Hall\, Lower Green\, Broadway\, WR12 7BU\, United Kingdom
CATEGORIES:Photography,Tickets still available,Workshops
ATTACH;FMTTYPE=image/png:https://broadwayartsfestival.com/wp-content/uploads/2024/12/Screenshot-2024-11-27-at-17.25.57.png
GEO:52.0368534;-1.8658503
X-APPLE-STRUCTURED-LOCATION;VALUE=URI;X-ADDRESS=Lifford Hall Lower Green Broadway WR12 7BU United Kingdom;X-APPLE-RADIUS=500;X-TITLE=Lower Green:geo:-1.8658503,52.0368534
END:VEVENT
BEGIN:VEVENT
DTSTART;TZID=Europe/London:20250614T143000
DTEND;TZID=Europe/London:20250614T163000
DTSTAMP:20260421T163250
CREATED:20241113T135815Z
LAST-MODIFIED:20250512T170050Z
UID:10000649-1749911400-1749918600@broadwayartsfestival.com
SUMMARY:Introduction to Cyanotype with Emily Rose Parris
DESCRIPTION:During this in depth 2 hour workshop you will explore cyanotype printing onto paper & fabric\, using the power of the sun to create striking blue & white prints. Once you’ve got to grips with the process you will print onto tote bags or cards to take away with you. \nNo previous experience is needed. All materials are provided\, but feel free to bring small plants or objects you’d like to experiment printing with. \nWhat is a cyanotype? \nCyanotype printing is one of the earliest forms of photography\, discovered in 1842. Cyanotype printing is a camera-less technique using UV sensitive chemistry and UV rays from the sun.  \nWho is running this workshop?\nEmily Rose Parris is a Photographer & Arts Educator visiting from Kent. \nThis event will be taking place in the Lifford Hall parlour room. \nTickets £45 (12 Places) \n  \n  \n \n  \nTutor: Photographer Emily Rose Parris
URL:https://broadwayartsfestival.com/event/introduction-to-cyanotype-with-emily-rose-parris/
LOCATION:The Lifford Parlour\, Lifford Hall\, Broadway\, WR12 7AL
CATEGORIES:Craft Workshops,Tickets still available,Workshops
ATTACH;FMTTYPE=image/jpeg:https://broadwayartsfestival.com/wp-content/uploads/2024/11/Cyanotype-Emily-Rose-Parris-scaled.jpg
GEO:52.0367674;-1.8654437
X-APPLE-STRUCTURED-LOCATION;VALUE=URI;X-ADDRESS=The Lifford Parlour Lifford Hall Broadway WR12 7AL;X-APPLE-RADIUS=500;X-TITLE=Lifford Hall:geo:-1.8654437,52.0367674
END:VEVENT
BEGIN:VEVENT
DTSTART;TZID=Europe/London:20250613T100000
DTEND;TZID=Europe/London:20250613T160000
DTSTAMP:20260421T163250
CREATED:20241118T153120Z
LAST-MODIFIED:20250512T165827Z
UID:10000658-1749808800-1749830400@broadwayartsfestival.com
SUMMARY:Stained Glass Workshop with Vix Brown
DESCRIPTION:A fun stained glass workshop capturing a Summer garden vibe where you’ll learn to make a sun catcher.  \nUsing the copper foiled method developed by Louis Comfort Tiffany\, create colourful birds and/or flowers. Choose from a selection of designs and lovely range of glass colours and textures.  Learn how to cut your glass to the pattern (cartoon) and then assemble it using copper foil and solder.  Once finished and polished\, your creation will be ready to take home and hang in a sunny window for you to enjoy all year round! \nThis workshop is not suitable for anyone who is pregnant or breastfeeding. \nVix Brown has been teaching Stained Glass workshops for over 20 years. \nSee more examples of her work and what her course and workshop attendees have created by visiting www.vixbrownglass.com \nAll materials provided and suitable for complete beginners. \nTickets £85  (8 places) \n  \nVix Brown: \n \n 
URL:https://broadwayartsfestival.com/event/stained-glass-workshop-with-vix-brown-2/
LOCATION:The Lifford Parlour\, Lifford Hall\, Broadway\, WR12 7AL
CATEGORIES:Craft Workshops,Tickets still available,Workshops
ATTACH;FMTTYPE=image/jpeg:https://broadwayartsfestival.com/wp-content/uploads/2023/01/Vix-Brown-Programme-Image-scaled.jpeg
ORGANIZER;CN="Karen Lacey":MAILTO:workshops@broadwayartsfestival.com
GEO:52.0367674;-1.8654437
X-APPLE-STRUCTURED-LOCATION;VALUE=URI;X-ADDRESS=The Lifford Parlour Lifford Hall Broadway WR12 7AL;X-APPLE-RADIUS=500;X-TITLE=Lifford Hall:geo:-1.8654437,52.0367674
END:VEVENT
BEGIN:VEVENT
DTSTART;TZID=Europe/London:20250612T133000
DTEND;TZID=Europe/London:20250612T163000
DTSTAMP:20260421T163250
CREATED:20241119T153102Z
LAST-MODIFIED:20250512T165742Z
UID:10000662-1749735000-1749745800@broadwayartsfestival.com
SUMMARY:Ceramic Chicken Workshop with Ros Ingram
DESCRIPTION:Enjoy an afternoon of sculpting a ceramic Chicken in clay with ceramicist Ros Ingram. Ros will guide you step by step to create and then decorate your Chicken. \nYour Chicken will be taken home by Ros to dry out before it is fired and returned to you. \nPlease bring an apron. \nThis event will be taking place in the marquee on the village green. \nAll materials and tools will be provided. Ticket price includes the cost of firing. \nSuitable for complete beginners. \nTickets £65 (15 Places) \n  \n 
URL:https://broadwayartsfestival.com/event/ceramic-chicken-workshop-with-ros-ingram-2/
LOCATION:Marquee on the village green\, Lower Green\, Broadway\, WR12 7BU
CATEGORIES:Ceramics,Craft Workshops,Tickets still available,Workshops
ATTACH;FMTTYPE=image/png:https://broadwayartsfestival.com/wp-content/uploads/2024/11/Screenshot-2024-12-16-at-10.31.28.png
ORGANIZER;CN="Karen Lacey":MAILTO:workshops@broadwayartsfestival.com
GEO:52.0367674;-1.8654437
X-APPLE-STRUCTURED-LOCATION;VALUE=URI;X-ADDRESS=Marquee on the village green Lower Green Broadway WR12 7BU;X-APPLE-RADIUS=500;X-TITLE=Lower Green:geo:-1.8654437,52.0367674
END:VEVENT
BEGIN:VEVENT
DTSTART;TZID=Europe/London:20250612T110000
DTEND;TZID=Europe/London:20250612T163000
DTSTAMP:20260421T163250
CREATED:20241202T102540Z
LAST-MODIFIED:20250512T165706Z
UID:10000690-1749726000-1749745800@broadwayartsfestival.com
SUMMARY:Introduction to Picture Framing
DESCRIPTION:Experience picture framing first hand and mix fun with a sense of achievement\, taking away with you your own completed frame at the end of the workshop. \nA practical and enjoyable workshop for beginners run by framer and tutor\, Mark Higgins\, where principles and key tools will be first demonstrated – then you will try everything out yourself as you complete your own frame. \nThe idea is to build confidence should you consider taking picture framing up either as a hobby or small business enterprise.  Everything in the workshop can be replicated at home with a modest purchase of key tools. \nMark Higgins is a qualified Fine Art Trade Guild framer and regularly runs framing courses for beginners. \nParticipants are invited to bring one image 26cm x 21cm – a 10” x 8” photograph would be suitable. A larger image can be brought along\, in which case we will be cropping it down to this size. \nAll the equipment and materials are provided to enable each participant to complete one frame they can take away ready to hang. A set of notes will be provided on next steps should participants wish to follow up on their framing workshop experience. \nThere will be stock of images should any participant not wish to\, or forgets to\, bring their own. \nParticipants should bring lunch and a pencil and pad should they wish to take some notes. \nTickets £100  (8 places) \n  \n  \n  \n \n\n\n 
URL:https://broadwayartsfestival.com/event/introduction-to-picture-framing/
LOCATION:The Lifford Parlour\, Lifford Hall\, Broadway\, WR12 7AL
CATEGORIES:Tickets still available,Workshops
ATTACH;FMTTYPE=image/jpeg:https://broadwayartsfestival.com/wp-content/uploads/2023/01/Picture-Framing-Workshop-scaled.jpg
ORGANIZER;CN="Karen Lacey":MAILTO:workshops@broadwayartsfestival.com
GEO:52.0367674;-1.8654437
X-APPLE-STRUCTURED-LOCATION;VALUE=URI;X-ADDRESS=The Lifford Parlour Lifford Hall Broadway WR12 7AL;X-APPLE-RADIUS=500;X-TITLE=Lifford Hall:geo:-1.8654437,52.0367674
END:VEVENT
BEGIN:VEVENT
DTSTART;TZID=Europe/London:20250612T100000
DTEND;TZID=Europe/London:20250612T163000
DTSTAMP:20260421T163250
CREATED:20241112T080518Z
LAST-MODIFIED:20250608T142938Z
UID:10000645-1749722400-1749745800@broadwayartsfestival.com
SUMMARY:Make a Willow Basket with Rachel Harwood
DESCRIPTION:Join local weaver Rachel for a one-day workshop where you’ll create a charming foraging basket\, perfect for carrying berries and treasures from your adventures. \nUsing traditional basketry techniques\, you’ll learn how to craft a sturdy base\, stake up the sides\, and weave the basket using a variety of colours. \nThe workshop will conclude with adding a simple border and a practical handle\, leaving you with a beautiful handmade basket to take home. \nYou will be working with different willows from Somerset and using a variety of weaving techniques to create your stunning basket. Rachel has been working with willow for 10 years and her background is in horticulture\, which inspires her creations. \nSuitable for all levels and a great introduction to working with willow\, however a degree of hand strength is required to get the most out of this workshop. \nTickets:  £110 (15 Places) \nWhat to bring:\nWillow\, tools and materials are all supplied.\nAn apron may be useful or old clothes as the willow can be damp and dirty.\nYou can work without gloves\, but a thin pair can help with grip.
URL:https://broadwayartsfestival.com/event/make-a-willow-garden-trug-with-rachel-harwood/
LOCATION:Marquee on the village green\, Lower Green\, Broadway\, WR12 7BU
CATEGORIES:Craft Workshops,Tickets still available,Workshops
ATTACH;FMTTYPE=image/jpeg:https://broadwayartsfestival.com/wp-content/uploads/2024/11/Willow-Basket-Workshop.jpg
GEO:52.0367674;-1.8654437
X-APPLE-STRUCTURED-LOCATION;VALUE=URI;X-ADDRESS=Marquee on the village green Lower Green Broadway WR12 7BU;X-APPLE-RADIUS=500;X-TITLE=Lower Green:geo:-1.8654437,52.0367674
END:VEVENT
BEGIN:VEVENT
DTSTART;TZID=Europe/London:20250612T093000
DTEND;TZID=Europe/London:20250612T170000
DTSTAMP:20260421T163250
CREATED:20241121T101235Z
LAST-MODIFIED:20250512T163825Z
UID:10000665-1749720600-1749747600@broadwayartsfestival.com
SUMMARY:En Plein Air Painting in Watercolour with Bobby Open
DESCRIPTION:An exciting opportunity to paint in a beautiful private garden on the Upper High Street in Broadway.  True to its name\, The Hill is a classic Cotswold stone house nestled in a hillside garden with topiary\, mature trees and summerhouses\, and fabulous views to Bredon Hill and the Malverns.  Participants will be painting outdoors with the aim of capturing aspects of the garden in vibrant and expressive watercolour.   \nBobby Open won the Great Broadway Paint Off in 2023 and paints in watercolour. \nThe day will include demonstrations of useful techniques and approaches to working outdoors in watercolour.  There will be plenty of time for participants to explore the garden and paint fragments and views that catch their eye\, particularly looking at how nature relates to more formal elements.   \nSuitable for those with experience of painting in watercolour. \nBobby’s paintings can be seen on Instagram at www.instagram.com/bobbyopen \nTickets £100 (15 Places) \nMATERIALS LIST \nThe materials listed below are only a general guide based on what I use.  Painting materials can be expensive and\, whilst the quality of materials tends to be reflected in the quality of one’s paintings\, suggestions about materials will be given during the workshop so if in doubt just bring whatever materials you already have and do not rush into buying more. \nBRUSHES \nI mainly use pointed round pure Kolinsky sable brushes (sometimes called designer round).  Typically\, in the studio\, I use da Vinci series 35; outdoors\, I use Escoda Reserva\, Isabey or Rosemary & Co travel brushes\, because the handle protects the brush when travelling.  I tend to use brush sizes 4\, 6\, 8\, 10 and 12.  If I had to choose only one\, it would be a versatile size 7 or 8. \nPAINTS \nI use artists’ quality paint from tubes\, squeezed into pans in a watercolour paint box.  It is essential that the tip of the brush can pick up wet paint: if the paint is too hard\, brush tips become worn and the paint will be less vibrant.  A small plastic spray bottle can be useful to keep paints moist.  Matchsticks or toothpicks are also useful to stir up paint. \nThere are different types of paint box.  Frank Herring makes a good\, affordable plastic paint box.  There are also enameled metal boxes\, including aluminium\, steel and brass: aluminium and brass tend to be more durable (steel boxes eventually rust). \n\nMy full colour palette includes a range of blues\, reds\, yellows and earth colours.  I use Holbein Artists’ Watercolour tubes (H) and Winsor and Newton Professional (W&N).  The colours I’ve underlined are the ones I use most outdoors:\nBlues: Cerulean Blue (H); Cobalt Blue; Ultramarine Blue Deep (H) or French Ultramarine (W&N).\nViolets: Cobalt Violet (H); Ultramarine Violet (W&N); Mineral Violet (H).\nReds: Carmine (H); Cadmium Red Deep (H) or Cadmium Red (W&N).\nYellows: New Gamboge (H); Cadmium Yellow Pale (H); Cadmium Yellow Light (H); Cadmium Yellow Deep (H); Cadmium Orange (W&N).\nEarth Colours and Greens: Yellow Ochre (H); Raw Umber; Burnt Sienna; Burnt Umber; Viridian.\nOccasional Colours: Ivory Black; Jaune Brilliant (H); Lavender (H); other greens such as Cobalt\, Turquoise\, Olive\, Oxide of Chromium and Perylene.\n\nPAPER \n\nI typically use 140lb Fabriano Artistico extra white cold pressed 100% cotton acid-free paper.  Sheets cut into half or quarter are usually more cost effective than blocks.  Saunders Waterford and Arches are also good options.\nA sketchbook can be useful for making notes and quick compositional sketches.\n\nOTHER ITEMS \nI use a Pentel 0.9mm B mechanical pencil; a Faber Castell foldable water pot; metal clips or masking tape to hold paper to a sheet of foamboard or cardboard; kitchen paper and a sponge.  Erasers are banned!  (Not really\, but a soft putty eraser will help to protect the paper surface).  A bottle of water.  Penknife. \nA cap or rimmed hat is useful to limit glare.  If you prefer to sit\, a folding chair or stool may be handy.  A folding easel will be necessary unless you are happy working in your lap.  Please dress for the weather and bring sunscreen/bug spray as appropriate! \nThe Hill\n \n  \n \n  \n \n \n  \n  \n \n  \n  \n 
URL:https://broadwayartsfestival.com/event/en-plein-air-painting-in-watercolour-with-bobby-open/
LOCATION:The Hill\, Fish Hill\, Broadway\, WR12 7LL\, United Kingdom
CATEGORIES:Tickets still available,Workshops
ATTACH;FMTTYPE=image/jpeg:https://broadwayartsfestival.com/wp-content/uploads/2024/11/BobbyOpen_BroadwayPictonHouseLR.jpg
ORGANIZER;CN="Karen Lacey":MAILTO:workshops@broadwayartsfestival.com
GEO:52.0336787;-1.8410994
X-APPLE-STRUCTURED-LOCATION;VALUE=URI;X-ADDRESS=The Hill Fish Hill Broadway WR12 7LL United Kingdom;X-APPLE-RADIUS=500;X-TITLE=Fish Hill\, Broadway:geo:-1.8410994,52.0336787
END:VEVENT
BEGIN:VEVENT
DTSTART;TZID=Europe/London:20250611T100000
DTEND;TZID=Europe/London:20250611T153000
DTSTAMP:20260421T163250
CREATED:20241119T142740Z
LAST-MODIFIED:20250512T163735Z
UID:10000660-1749636000-1749655800@broadwayartsfestival.com
SUMMARY:Ceramic Cow Workshop with Ros Ingram
DESCRIPTION:Enjoy a day of sculpting either a Highland or black and white Fresian cow in clay with ceramicist Ros Ingram. Ros will guide you step by step to create and then decorate your characterful Cow! \nYour Cow will be taken home by Ros to dry out before it is fired – clay and firing of work included in cost of workshop\, \nPlease bring an apron. \nThis event will be taking place in the marquee on the village green. \nAll materials and tools will be provided. Ticket price includes the cost of firing. \nSuitable for complete beginners. \nTickets £95 (15 Places) \n \n 
URL:https://broadwayartsfestival.com/event/39990/
LOCATION:Marquee on the village green\, Lower Green\, Broadway\, WR12 7BU
CATEGORIES:Ceramics,Craft Workshops,Tickets still available,Workshops
ATTACH;FMTTYPE=image/jpeg:https://broadwayartsfestival.com/wp-content/uploads/2024/11/cows-scaled.jpg
ORGANIZER;CN="Karen Lacey":MAILTO:workshops@broadwayartsfestival.com
GEO:52.0367674;-1.8654437
X-APPLE-STRUCTURED-LOCATION;VALUE=URI;X-ADDRESS=Marquee on the village green Lower Green Broadway WR12 7BU;X-APPLE-RADIUS=500;X-TITLE=Lower Green:geo:-1.8654437,52.0367674
END:VEVENT
BEGIN:VEVENT
DTSTART;TZID=Europe/London:20250608T180000
DTEND;TZID=Europe/London:20250608T200000
DTSTAMP:20260421T163250
CREATED:20241024T101745Z
LAST-MODIFIED:20250512T162955Z
UID:10000619-1749405600-1749412800@broadwayartsfestival.com
SUMMARY:Learn to Argentine Tango
DESCRIPTION:Learn to dance the passionate Argentine Tango! \nThis dance workshop is suitable for novice and intermediate dancers with some experience. You will cover the basic steps and simple Argentine Tango and Milonga variations\, along with technique\, timing\, footwork and styling. \nPaul & Tracey Pritchard from ‘Dance at 8’ will be teaching the 2 hour workshop. ‘Dance at 8’ has been teaching dancers at all levels for over 25 years and offers weekly classes in Malvern\, Droitwich and Pershore. Paul Pritchard (IDTA Licentiate) has over 60 years’ experience in many dance styles\, and met with much success in his time as a competitor and performer. Paul and his wife Tracey have competed in Pro-Am Championships. \nDue to the style of dance\, please attend as a couple! \nThis event will take place at The Lifford Hall in Broadway. \nNo special clothing is required\, please dress comfortably with layers as you may get warm\, so bring water! Wear shoes that stay on your feet and have a smooth sole (preferably leather) to aid with rotation (no trainers) \nTickets  £20  (40 places) \n  \n 
URL:https://broadwayartsfestival.com/event/learn-to-argentine-tango/
LOCATION:Lifford Hall\, Lower Green\, Broadway\, WR12 7BU\, United Kingdom
CATEGORIES:Dance,Tickets still available,Workshops
ATTACH;FMTTYPE=image/png:https://broadwayartsfestival.com/wp-content/uploads/2024/10/Tango-1.png
GEO:52.0368534;-1.8658503
X-APPLE-STRUCTURED-LOCATION;VALUE=URI;X-ADDRESS=Lifford Hall Lower Green Broadway WR12 7BU United Kingdom;X-APPLE-RADIUS=500;X-TITLE=Lower Green:geo:-1.8658503,52.0368534
END:VEVENT
BEGIN:VEVENT
DTSTART;TZID=Europe/London:20250608T140000
DTEND;TZID=Europe/London:20250608T170000
DTSTAMP:20260421T163250
CREATED:20241115T104557Z
LAST-MODIFIED:20250512T162909Z
UID:10000653-1749391200-1749402000@broadwayartsfestival.com
SUMMARY:Designer Lampshade Workshop with Alison Bick
DESCRIPTION:Learn how to make a 40cm diameter lampshade using Alison Bick’s designer fabric. \nThis is a fun and creative workshop learning how to make your own lampshade.  Alison will share her tips and tricks for a professional finish to your lampshade making\, and at the end of the workshop session you will take home an Alison Bick Design lampshade – made by you! \nAlison Bick is a designer maker living in Cornwall\, who hand makes lampshades using fabric printed with her floral and coastal inspired illustrations. \nAs seen on BBC’s Escape to the Country. \nWhat is included: \nAll the components you will need to make a 40cm lampshade. \nAlison will bring along a selection of fabrics with her designs already printed for you to choose from on the day.  If you have a particular favourite design\, please get in touch with your request when you place the booking. \nThe fabrics can be found at: Alison Bick Design Fabrics \nEverything you need to make the lampshade will be provided\, and your finished lampshade will be carefully wrapped in tissue paper to protect it on its journey home. \nSuitable for complete beginners. \nTickets £90 (12 Places) \nLadies and their lampshades at the last festival!
URL:https://broadwayartsfestival.com/event/designer-lampshade-workshop-with-alison-bick-3/
LOCATION:Lifford Hall\, Lower Green\, Broadway\, WR12 7BU\, United Kingdom
CATEGORIES:Craft Workshops,Tickets still available,Workshops
ATTACH;FMTTYPE=image/jpeg:https://broadwayartsfestival.com/wp-content/uploads/2024/11/AlisonBickDesigns2024-Print-1.jpeg
GEO:52.0368534;-1.8658503
X-APPLE-STRUCTURED-LOCATION;VALUE=URI;X-ADDRESS=Lifford Hall Lower Green Broadway WR12 7BU United Kingdom;X-APPLE-RADIUS=500;X-TITLE=Lower Green:geo:-1.8658503,52.0368534
END:VEVENT
BEGIN:VEVENT
DTSTART;TZID=Europe/London:20250607T140000
DTEND;TZID=Europe/London:20250607T180000
DTSTAMP:20260421T163250
CREATED:20241210T163855Z
LAST-MODIFIED:20250601T085233Z
UID:10000705-1749304800-1749319200@broadwayartsfestival.com
SUMMARY:Silver Spinner Ring Jewellery Workshop with Karen Lockton
DESCRIPTION:Your chance to make your very own bespoke silver spinner ring with Karen Lockton of KFL Design. \nYou will learn to shape and texture the silver and solder. There will be the opportunity to create texture and to learn some basic jewellery making skills and how to finish and polish your ring for a sparkling result. \nThis class is suitable for anyone who would like to experience making jewellery as either a complete novice or who has some basic knowledge of silversmithing. \nSee their work on Instagram @kflocktondesign and at https://www.ldstudio.uk \nTickets £95  (10 Places) \nMaterials: \nKFL Design will provide all materials and equipment\, however you will be working with heat and mess\, so we do advise that participants wear closed shoes\, functional clothes and nothing that may get caught in equipment.
URL:https://broadwayartsfestival.com/event/silver-spinner-ring-jewellery-workshop-with-karen-lockton-2/
LOCATION:Lifford Hall\, Lower Green\, Broadway\, WR12 7BU\, United Kingdom
CATEGORIES:Craft Workshops,Jewellery,Tickets still available,Workshops
ATTACH;FMTTYPE=image/jpeg:https://broadwayartsfestival.com/wp-content/uploads/2024/12/IMG_8395-e1733911118943.jpg
ORGANIZER;CN="Karen Lacey":MAILTO:workshops@broadwayartsfestival.com
GEO:52.0368534;-1.8658503
X-APPLE-STRUCTURED-LOCATION;VALUE=URI;X-ADDRESS=Lifford Hall Lower Green Broadway WR12 7BU United Kingdom;X-APPLE-RADIUS=500;X-TITLE=Lower Green:geo:-1.8658503,52.0368534
END:VEVENT
END:VCALENDAR